BEGIN:VCALENDAR
VERSION:2.0
PRODID:-//hacksw/handcal//NONSGML v1.0//EN
BEGIN:VEVENT
SUMMARY:Match
UID:39115036-e374-4869-b09e-937877ff0b1e
DTSTART:20260315T090000Z
DTEND:20260315T130000Z
LOCATION:Localisation   
CATEGORIES:Sportif
STATUS:
DESCRIPTION:Belle victoire de notre equipe ! Rendez-vous samedi pour
 le prochain match. 
URL;VALUE=URI:https://fc-porcheux.sportsregions.fr/evenements/2026/03/15/match-2428695
END:VEVENT
END:VCALENDAR
