BEGIN:VCALENDAR
VERSION:2.0
PRODID:-//hacksw/handcal//NONSGML v1.0//EN
BEGIN:VEVENT
SUMMARY:Tournoi regional
UID:737b1442-aad7-4305-a03c-d23683a82b74
DTSTART:20260315T090000Z
DTEND:20260315T130000Z
LOCATION:Localisation   
CATEGORIES:Sportif
STATUS:
DESCRIPTION:<p>Le tournoi regional organise par le club aura lieu sur
 le grand stade de la ville a partir de 14h.<br> Trois de nos equipes
 seront en lice dans la competition.
 </p><p>Les prix seront remis en
 soiree.</p>
URL;VALUE=URI:https://fc-porcheux.sportsregions.fr/evenements/2026/03/15/tournoi-regional-2428694
END:VEVENT
END:VCALENDAR
